BEGIN:VCALENDAR
VERSION:2.0
PRODID:-//ChamberMaster//Event Calendar 2.0//EN
METHOD:PUBLISH
X-PUBLISHED-TTL:P3D
REFRESH-INTERVAL:P3D
CALSCALE:GREGORIAN
BEGIN:VEVENT
DTSTART:20230527T200000Z
DTEND:20230528T000000Z
X-MICROSOFT-CDO-ALLDAYEVENT:FALSE
SUMMARY:Michigan Beer and Brat Festival
DESCRIPTION:Join our 16th annual celebration of Michigan made food and craft beverages happening Saturday\, May 27\, 2023. Enjoy live entertainment while sampling an enormous selection of Michigan's finest microbrews\, meads\, hard ciders\, wine\, liquor and gourmet brats from northwest Michigan markets. VIP Admission begins at 3pm\, General Admission from 4-8pm. Ages 3 and under are free.
X-ALT-DESC;FMTTYPE=text/html:Join our 16th annual celebration of Michigan made food and craft beverages happening Saturday\, May 27\, 2023. Enjoy live entertainment while sampling an enormous selection of Michigan&#39\;s finest microbrews\, meads\, hard ciders\, wine\, liquor and gourmet brats from northwest Michigan markets. VIP Admission begins at 3pm\, General Admission from 4-8pm. Ages 3 and under are free.
LOCATION:Crystal Mountain 12500 Crystal Mountain Drive Thompsonville\, MI 49683
UID:e.2150.2467
SEQUENCE:3
DTSTAMP:20260426T032247Z
URL:https://business.manisteechamber.com/events/details/michigan-beer-and-brat-festival-05-27-2023-2467
END:VEVENT

END:VCALENDAR
