BEGIN:VCALENDAR
VERSION:2.0
PRODID:-//ChamberMaster//Event Calendar 2.0//EN
METHOD:PUBLISH
X-PUBLISHED-TTL:P3D
REFRESH-INTERVAL:P3D
CALSCALE:GREGORIAN
BEGIN:VEVENT
DTSTART:20230506T130000Z
DTEND:20230506T200000Z
X-MICROSOFT-CDO-ALLDAYEVENT:FALSE
SUMMARY:Auxiliary Garage and Bake Sale
DESCRIPTION:The Read-Osborne American Legion Post 531 Auxiliary is having a garage and bake sale on May 6\, 2023\, 9am to 4pm! Come and find treasures and pick up some delicious goodies! Fundraiser to help with the Auxiliary programs. Located at American Legion Post\, 531\, 18482 Cadillac Hwy.\, Copemish\, MI. Questions\, please call 231-409-5037
X-ALT-DESC;FMTTYPE=text/html:The Read-Osborne American Legion Post 531 Auxiliary is having a garage and bake sale on May 6\, 2023\, 9am to 4pm! Come and find treasures and pick up some delicious goodies! Fundraiser to help with the Auxiliary programs. Located at American Legion Post\, 531\, 18482 Cadillac Hwy.\, Copemish\, MI. Questions\, please call 231-409-5037
LOCATION:American Legion Post\, 531\, 18482 Cadillac Hwy.\, Copemish\, MI.
UID:e.2150.2490
SEQUENCE:3
DTSTAMP:20260426T020520Z
URL:https://business.manisteechamber.com/events/details/auxiliary-garage-and-bake-sale-2490
END:VEVENT

END:VCALENDAR
