BEGIN:VCALENDAR
VERSION:2.0
PRODID:-//ChamberMaster//Event Calendar 2.0//EN
METHOD:PUBLISH
X-PUBLISHED-TTL:P3D
REFRESH-INTERVAL:P3D
CALSCALE:GREGORIAN
BEGIN:VEVENT
DTSTART:20241029T200000Z
DTEND:20241029T213000Z
X-MICROSOFT-CDO-ALLDAYEVENT:FALSE
SUMMARY:2024 Small Business: Resources & Connections
DESCRIPTION:Calling all small business owners! \n\nJoin us for Small Business Resources + Connections on October 29th from 4:00-5:30 PM at the West Shore Community College Manistee Downtown Education Center (400 River St\, Classrooms A&B)! Hosted by the Manistee Area Chamber of Commerce and Manistee County Community Foundation. \n\nThis is your chance to connect with key organizations that can support the growth of your business\, including: \n\n\n	Manistee Area Chamber of Commerce\n	Small Business Development Center (SBDC)\n	20Fathoms\n	Northern Initiatives\n	Venture North\n	Manistee County Community Foundation\n\n\nWhether you're looking for resources\, guidance\, or networking opportunities\, we've got you covered! Enjoy refreshments while making valuable connections.\n\n  Date: October 29th\n\n  Time: 4:00 - 5:30 PM\n\n  Location: West Shore Community College\, Downtown Manistee\, Classrooms A&B\n\nDon't miss out on this opportunity to grow your business!
X-ALT-DESC;FMTTYPE=text/html:<p dir="ltr" style="line-height:1.38\;margin-top:12pt\;margin-bottom:12pt\;"><span id="docs-internal-guid-4acdb76d-7fff-7f98-b3ad-97369949254b"><span style="font-size: 11pt\; font-family: Arial\, sans-serif\; color: rgb(0\, 0\, 0)\; background-color: transparent\; font-variant-numeric: normal\; font-variant-east-asian: normal\; font-variant-alternates: normal\; font-variant-position: normal\; vertical-align: baseline\; white-space-collapse: preserve\;">Calling all small business owners!&nbsp\;</span></span></p>\n\n<p dir="ltr" style="line-height:1.38\;margin-top:12pt\;margin-bottom:12pt\;"><span id="docs-internal-guid-4acdb76d-7fff-7f98-b3ad-97369949254b"><span style="font-size: 11pt\; font-family: Arial\, sans-serif\; color: rgb(0\, 0\, 0)\; background-color: transparent\; font-variant-numeric: normal\; font-variant-east-asian: normal\; font-variant-alternates: normal\; font-variant-position: normal\; vertical-align: baseline\; white-space-collapse: preserve\;">Join us for </span><span style="font-size: 11pt\; font-family: Arial\, sans-serif\; color: rgb(0\, 0\, 0)\; background-color: transparent\; font-weight: 700\; font-variant-numeric: normal\; font-variant-east-asian: normal\; font-variant-alternates: normal\; font-variant-position: normal\; vertical-align: baseline\; white-space-collapse: preserve\;">Small Business Resources + Connections</span><span style="font-size: 11pt\; font-family: Arial\, sans-serif\; color: rgb(0\, 0\, 0)\; background-color: transparent\; font-variant-numeric: normal\; font-variant-east-asian: normal\; font-variant-alternates: normal\; font-variant-position: normal\; vertical-align: baseline\; white-space-collapse: preserve\;"> on </span><span style="font-size: 11pt\; font-family: Arial\, sans-serif\; color: rgb(0\, 0\, 0)\; background-color: transparent\; font-weight: 700\; font-variant-numeric: normal\; font-variant-east-asian: normal\; font-variant-alternates: normal\; font-variant-position: normal\; vertical-align: baseline\; white-space-collapse: preserve\;">October 29th</span><span style="font-size: 11pt\; font-family: Arial\, sans-serif\; color: rgb(0\, 0\, 0)\; background-color: transparent\; font-variant-numeric: normal\; font-variant-east-asian: normal\; font-variant-alternates: normal\; font-variant-position: normal\; vertical-align: baseline\; white-space-collapse: preserve\;"> from 4:00-5:30 PM at the West Shore Community College Manistee Downtown Education Center (400 River St\, Classrooms A&amp\;B)! Hosted by the Manistee Area Chamber of Commerce and Manistee County Community Foundation.&nbsp\;</span></span></p>\n\n<p dir="ltr" style="line-height:1.38\;margin-top:12pt\;margin-bottom:12pt\;"><span id="docs-internal-guid-4acdb76d-7fff-7f98-b3ad-97369949254b"><span style="font-size: 11pt\; font-family: Arial\, sans-serif\; color: rgb(0\, 0\, 0)\; background-color: transparent\; font-variant-numeric: normal\; font-variant-east-asian: normal\; font-variant-alternates: normal\; font-variant-position: normal\; vertical-align: baseline\; white-space-collapse: preserve\;">This is your chance to connect with key organizations that can support the growth of your business\, including: </span></span></p>\n\n<ul style="margin-top:0\;margin-bottom:0\;padding-inline-start:48px\;">\n	<li style="line-height: 1.38\; margin-top: 12pt\; margin-bottom: 12pt\;"><span><span style="font-size: 11pt\; font-family: Arial\, sans-serif\; color: rgb(0\, 0\, 0)\; background-color: transparent\; font-variant-numeric: normal\; font-variant-east-asian: normal\; font-variant-alternates: normal\; font-variant-position: normal\; vertical-align: baseline\; white-space-collapse: preserve\;">Manistee Area Chamber of Commerce</span></span></li>\n	<li style="line-height: 1.38\; margin-top: 12pt\; margin-bottom: 12pt\;"><span><span style="font-size: 11pt\; font-family: Arial\, sans-serif\; color: rgb(0\, 0\, 0)\; background-color: transparent\; font-variant-numeric: normal\; font-variant-east-asian: normal\; font-variant-alternates: normal\; font-variant-position: normal\; vertical-align: baseline\; white-space-collapse: preserve\;">Small Business Development Center (SBDC)</span></span></li>\n	<li style="line-height: 1.38\; margin-top: 12pt\; margin-bottom: 12pt\;"><font color="#000000" face="Arial\, sans-serif"><span style="font-size: 14.6667px\; white-space-collapse: preserve\;">20Fathoms</span></font></li>\n	<li style="line-height: 1.38\; margin-top: 12pt\; margin-bottom: 12pt\;"><font color="#000000" face="Arial\, sans-serif"><span style="font-size: 14.6667px\; white-space-collapse: preserve\;">Northern Initiatives</span></font></li>\n	<li style="line-height: 1.38\; margin-top: 12pt\; margin-bottom: 12pt\;"><font color="#000000" face="Arial\, sans-serif"><span style="font-size: 14.6667px\; white-space-collapse: preserve\;">Venture North</span></font></li>\n	<li style="line-height: 1.38\; margin-top: 12pt\; margin-bottom: 12pt\;"><font color="#000000" face="Arial\, sans-serif"><span style="font-size: 14.6667px\; white-space-collapse: preserve\;">Manistee County Community Foundation</span></font></li>\n</ul>\n\n<p dir="ltr" style="line-height:1.38\;margin-top:12pt\;margin-bottom:12pt\;"><span id="docs-internal-guid-4acdb76d-7fff-7f98-b3ad-97369949254b"><span style="font-size: 11pt\; font-family: Arial\, sans-serif\; color: rgb(0\, 0\, 0)\; background-color: transparent\; font-variant-numeric: normal\; font-variant-east-asian: normal\; font-variant-alternates: normal\; font-variant-position: normal\; vertical-align: baseline\; white-space-collapse: preserve\;">Whether you&#39\;re looking for resources\, guidance\, or networking opportunities\, we&#39\;ve got you covered! Enjoy refreshments while making valuable connections.</span></span></p>\n\n<p dir="ltr" style="line-height:1.38\;margin-top:12pt\;margin-bottom:12pt\;"><span id="docs-internal-guid-4acdb76d-7fff-7f98-b3ad-97369949254b"><span style="font-size: 11pt\; font-family: Arial\, sans-serif\; color: rgb(0\, 0\, 0)\; background-color: transparent\; font-variant-numeric: normal\; font-variant-east-asian: normal\; font-variant-alternates: normal\; font-variant-position: normal\; vertical-align: baseline\; white-space-collapse: preserve\;">&#128197\; </span><span style="font-size: 11pt\; font-family: Arial\, sans-serif\; color: rgb(0\, 0\, 0)\; background-color: transparent\; font-weight: 700\; font-variant-numeric: normal\; font-variant-east-asian: normal\; font-variant-alternates: normal\; font-variant-position: normal\; vertical-align: baseline\; white-space-collapse: preserve\;">Date:</span><span style="font-size: 11pt\; font-family: Arial\, sans-serif\; color: rgb(0\, 0\, 0)\; background-color: transparent\; font-variant-numeric: normal\; font-variant-east-asian: normal\; font-variant-alternates: normal\; font-variant-position: normal\; vertical-align: baseline\; white-space-collapse: preserve\;"> October 29th</span><br />\n<span style="font-size: 11pt\; font-family: Arial\, sans-serif\; color: rgb(0\, 0\, 0)\; background-color: transparent\; font-variant-numeric: normal\; font-variant-east-asian: normal\; font-variant-alternates: normal\; font-variant-position: normal\; vertical-align: baseline\; white-space-collapse: preserve\;">&#128339\; </span><span style="font-size: 11pt\; font-family: Arial\, sans-serif\; color: rgb(0\, 0\, 0)\; background-color: transparent\; font-weight: 700\; font-variant-numeric: normal\; font-variant-east-asian: normal\; font-variant-alternates: normal\; font-variant-position: normal\; vertical-align: baseline\; white-space-collapse: preserve\;">Time:</span><span style="font-size: 11pt\; font-family: Arial\, sans-serif\; color: rgb(0\, 0\, 0)\; background-color: transparent\; font-variant-numeric: normal\; font-variant-east-asian: normal\; font-variant-alternates: normal\; font-variant-position: normal\; vertical-align: baseline\; white-space-collapse: preserve\;"> 4:00 - 5:30 PM</span><br />\n<span style="font-size: 11pt\; font-family: Arial\, sans-serif\; color: rgb(0\, 0\, 0)\; background-color: transparent\; font-variant-numeric: normal\; font-variant-east-asian: normal\; font-variant-alternates: normal\; font-variant-position: normal\; vertical-align: baseline\; white-space-collapse: preserve\;">&#128205\; </span><span style="font-size: 11pt\; font-family: Arial\, sans-serif\; color: rgb(0\, 0\, 0)\; background-color: transparent\; font-weight: 700\; font-variant-numeric: normal\; font-variant-east-asian: normal\; font-variant-alternates: normal\; font-variant-position: normal\; vertical-align: baseline\; white-space-collapse: preserve\;">Location:</span><span style="font-size: 11pt\; font-family: Arial\, sans-serif\; color: rgb(0\, 0\, 0)\; background-color: transparent\; font-variant-numeric: normal\; font-variant-east-asian: normal\; font-variant-alternates: normal\; font-variant-position: normal\; vertical-align: baseline\; white-space-collapse: preserve\;"> West Shore Community College\, Downtown Manistee\, Classrooms A&amp\;B</span></span></p>\n\n<p dir="ltr" style="line-height:1.38\;margin-top:12pt\;margin-bottom:12pt\;"><span id="docs-internal-guid-4acdb76d-7fff-7f98-b3ad-97369949254b"><span style="font-size: 11pt\; font-family: Arial\, sans-serif\; color: rgb(0\, 0\, 0)\; background-color: transparent\; font-variant-numeric: normal\; font-variant-east-asian: normal\; font-variant-alternates: normal\; font-variant-position: normal\; vertical-align: baseline\; white-space-collapse: preserve\;">Don&#39\;t miss out on this opportunity to grow your business!</span></span></p>\n
LOCATION:WSCC Downtown Manistee Education Center\, Classrooms A & B 400 River Street Manistee\, MI 49660
UID:e.2150.2625
SEQUENCE:3
DTSTAMP:20260421T101436Z
URL:https://business.manisteechamber.com/events/details/2024-small-business-resources-connections-2625
END:VEVENT

END:VCALENDAR
